BEGIN:VCALENDAR
VERSION:2.0
PRODID:-//ChamberMaster//Event Calendar 2.0//EN
METHOD:PUBLISH
X-PUBLISHED-TTL:P3D
REFRESH-INTERVAL:P3D
CALSCALE:GREGORIAN
BEGIN:VEVENT
DTSTART:20120328T220000Z
DTEND:20120329T000000Z
X-MICROSOFT-CDO-ALLDAYEVENT:FALSE
SUMMARY:Business After Hours
DESCRIPTION:The March Business After Hours\, hosted by Ipexus Graphics at Bacci Pizzera\, will be held on Wednesday\, March 28 from 5 to 7 p.m.
X-ALT-DESC;FMTTYPE=text/html:<p>\n	The&nbsp\;March Business After Hours\, hosted by&nbsp\;Ipexus Graphics at Bacci Pizzera\,&nbsp\;will be held on Wednesday\, March 28&nbsp\;from 5 to 7 p.m.&nbsp\;&nbsp\;</p>\n
LOCATION:Ipexus is hosting the event at: Bacci Pizzeria 1100 Rt 83 Bensenville\, IL 60106
UID:e.333.4735
SEQUENCE:3
DTSTAMP:20260425T035518Z
URL:https://chambermaster.elmhurstchamber.org/events/details/business-after-hours-03-28-2012-4735
END:VEVENT

END:VCALENDAR
