BEGIN:VCALENDAR
VERSION:2.0
PRODID:-//ChamberMaster//Event Calendar 2.0//EN
METHOD:PUBLISH
X-PUBLISHED-TTL:P3D
REFRESH-INTERVAL:P3D
CALSCALE:GREGORIAN
BEGIN:VEVENT
DTSTART:20120815T223000Z
DTEND:20120815T233000Z
X-MICROSOFT-CDO-ALLDAYEVENT:FALSE
SUMMARY:Business Databases at Your Fingertips
DESCRIPTION:As part of our Professional Speaker Seminar Series\, Elmhurst Chamber of Commerce members will be presenting a one-hour seminar on their products/services.\n\n\n\nAttendance is free to Chamber members and special guests. \n\n\n\n\n	Business Research at Elmhurst Public Library featuring Business Source \n\n	Premier\n\n	 \n\n	Presented by: Heidi van Gennep\, EBSCO Information Services and Bryan Blank\, Elmhurst Public Library\n\n	 \nElmhurst Public Library offers a slew of business and investing resources that are available 24/7 from their website with an Elmhurst  Library card. For this session we will focus on Business Source Premier. http://bit.ly/EPLbusiness\n\nDesigned for business libraries\, this is the industry's most used business research database\, providing full text for more than 2\,100 journals. Business Source Premier provides full text back to 1965. Business Source Premier provides comprehensive coverage in all disciplines of business\,including marketing\, management\, MIS\, POM\, accounting\, banking \, finance\, etc. Additional full-text\, non-journal contents include market research reports\, industry reports\, country reports\, company profiles and  SWOT analyses.
X-ALT-DESC;FMTTYPE=text/html:As part of our Professional Speaker Seminar Series\, Elmhurst Chamber of Commerce members will be presenting a one-hour seminar on their products/services.<br />\n<br />\nAttendance&nbsp\;is free to Chamber members and special guests.&nbsp\;<br />\n<br />\n<div>\n	Business Research at Elmhurst Public Library featuring Business Source&reg\;</div>\n<div>\n	Premier<br />\n	&nbsp\;</div>\n<div>\n	Presented by: Heidi van Gennep\, EBSCO Information Services and Bryan Blank\, Elmhurst Public Library</div>\n<div>\n	&nbsp\;</div>\nElmhurst Public Library offers a slew of business and investing resources that are available 24/7 from their website with an Elmhurst &nbsp\;Library card. For this session we will focus on Business Source Premier. http://bit.ly/EPLbusiness<br />\nDesigned for business libraries\, this is the industry&#39\;s most used business research database\, providing full text for more than 2\,100 journals. Business Source Premier provides full text back to 1965. Business Source Premier provides comprehensive coverage in all disciplines of business\,including marketing\, management\, MIS\, POM\, accounting\, banking \, finance\, etc. Additional full-text\, non-journal contents include market research reports\, industry reports\, country reports\, company profiles and &nbsp\;SWOT analyses.<br />\n<br />\n
LOCATION:Elmhurst Public Library 125 S. Prospect Ave. Elmhurst\, IL 60126
UID:e.333.4548
SEQUENCE:3
DTSTAMP:20260424T193729Z
URL:https://chambermaster.elmhurstchamber.org/events/details/business-databases-at-your-fingertips-08-15-2012-4548
END:VEVENT

END:VCALENDAR
