BEGIN:VCALENDAR
VERSION:2.0
PRODID:-//ChamberMaster//Event Calendar 2.0//EN
METHOD:PUBLISH
X-PUBLISHED-TTL:P3D
REFRESH-INTERVAL:P3D
CALSCALE:GREGORIAN
BEGIN:VEVENT
DTSTART:20121017T164500Z
DTEND:20121017T174500Z
X-MICROSOFT-CDO-ALLDAYEVENT:FALSE
SUMMARY:Business Exit Strategies In A Challenging Economy
DESCRIPTION:As part of our Professional Speaker Seminar Series\, Development Director Duncan Skosgberg and Financial Services Specialist Mary Ellen Fiflis of the Principal Financial Group will present a one-hour seminar on "Business Exit Strategies In A Challenging Economy." \n\n\n\nAttendance will be free to Chamber members and special guests\, with food and beverages provided.
X-ALT-DESC;FMTTYPE=text/html:As part of our Professional Speaker Seminar Series\, Development Director Duncan Skosgberg and Financial Services Specialist Mary Ellen Fiflis of the Principal Financial Group will present a one-hour seminar on &quot\;Business Exit Strategies In A Challenging Economy.&quot\;&nbsp\;<br />\n<br />\nAttendance will be free to Chamber members and special guests\, with food and beverages provided.&nbsp\; 
LOCATION:Elmhurst Chamber of Commerce & Industry Community Bank of Elmhurst Board Room 242 N York St.\, Ste 102 Elmhurst\, IL 60126
UID:e.333.4550
SEQUENCE:3
DTSTAMP:20260424T162644Z
URL:https://chambermaster.elmhurstchamber.org/events/details/business-exit-strategies-in-a-challenging-economy-10-17-2012-4550
END:VEVENT

END:VCALENDAR
