BEGIN:VCALENDAR
VERSION:2.0
PRODID:-//ChamberMaster//Event Calendar 2.0//EN
METHOD:PUBLISH
X-PUBLISHED-TTL:P3D
REFRESH-INTERVAL:P3D
CALSCALE:GREGORIAN
BEGIN:VEVENT
DTSTART:20110713T164500Z
DTEND:20110713T174500Z
X-MICROSOFT-CDO-ALLDAYEVENT:FALSE
SUMMARY:Business Trip to China Informational Session
DESCRIPTION:Learn more about the Elmhurst Chamber of Commerce & Industry's nine-day Business Trip to China (Beijing\, Shanghai and Hangzhou) from November 7-15 from Premier World Discovery/Chamber Explorations.\n\n\n\nTo view calendar listing of China trip\, click HERE.\n\n\n\nA light lunch will be served.
X-ALT-DESC;FMTTYPE=text/html:Learn more about the Elmhurst Chamber of Commerce &amp\; Industry&#39\;s nine-day Business Trip to China (Beijing\, Shanghai and Hangzhou) from November 7-15 from Premier World Discovery/Chamber Explorations.<br />\n<br />\nTo view calendar listing of China trip\, click <a href="http://chambermaster.elmhurstchamber.org/events/details/business-trip-to-china">HERE</a>.<br />\n<br />\nA&nbsp\;light lunch will be served.<span _fck_bookmark="1" style="display: none">&nbsp\;</span>
LOCATION:Chamber Office 242 N. York Street. Suite 102\, Elmhurst\, IL 60126
UID:e.333.4250
SEQUENCE:3
DTSTAMP:20260425T161730Z
URL:https://chambermaster.elmhurstchamber.org/events/details/business-trip-to-china-informational-session-07-13-2011-4250
END:VEVENT

END:VCALENDAR
