BEGIN:VCALENDAR
VERSION:2.0
PRODID:-//ChamberMaster//Event Calendar 2.0//EN
METHOD:PUBLISH
X-PUBLISHED-TTL:P3D
REFRESH-INTERVAL:P3D
CALSCALE:GREGORIAN
BEGIN:VEVENT
DTSTART:20110420T223000Z
DTEND:20110420T233000Z
X-MICROSOFT-CDO-ALLDAYEVENT:FALSE
SUMMARY:Business Trip to China Informational Sesssion #3
DESCRIPTION:Wednesday\, April 20\n\n5:30 to 6:30 p.m.
X-ALT-DESC;FMTTYPE=text/html:Wednesday\, April 20<br />\n5:30&nbsp\;to&nbsp\;6:30 p.m.
LOCATION:Chamber Office 242 N. York Street\, Suite 102 Elmhurst\, IL 60126
UID:e.333.4141
SEQUENCE:3
DTSTAMP:20260425T205024Z
URL:https://chambermaster.elmhurstchamber.org/events/details/business-trip-to-china-informational-sesssion-3-04-20-2011-4141
END:VEVENT

END:VCALENDAR
