BEGIN:VCALENDAR
VERSION:2.0
PRODID:-//ChamberMaster//Event Calendar 2.0//EN
METHOD:PUBLISH
X-PUBLISHED-TTL:P3D
REFRESH-INTERVAL:P3D
CALSCALE:GREGORIAN
BEGIN:VEVENT
DTSTART;VALUE=DATE:20120315
DTEND;VALUE=DATE:20120316
TRANSP:TRANSPARENT
X-MICROSOFT-CDO-ALLDAYEVENT:TRUE
SUMMARY:Celar Chiropractic St. Patricks Day After Hours
DESCRIPTION:
X-ALT-DESC;FMTTYPE=text/html:
LOCATION:4413 W. Roosevelt Rd Hillside\, IL 60162
UID:e.333.4794
SEQUENCE:3
DTSTAMP:20260425T035517Z
URL:https://chambermaster.elmhurstchamber.org/events/details/celar-chiropractic-st-patricks-day-after-hours-03-15-2012-4794
END:VEVENT

END:VCALENDAR
