BEGIN:VCALENDAR
VERSION:2.0
PRODID:-//ChamberMaster//Event Calendar 2.0//EN
METHOD:PUBLISH
X-PUBLISHED-TTL:P3D
REFRESH-INTERVAL:P3D
CALSCALE:GREGORIAN
BEGIN:VEVENT
DTSTART:20121027T143000Z
DTEND:20121027T170000Z
X-MICROSOFT-CDO-ALLDAYEVENT:FALSE
SUMMARY:Celebrate A BOO-tiful Halloween At The York Theatre! FREE Family Film
DESCRIPTION:Fall into fun during York Theatre's annual BOO-tiful Halloween event on Saturday\, October 27th\, presented by the Elmhurst City Centre. Bring the whole family for a FREE screening of the family favorite "How to Train Your Dragon" (PG) beginning at 9:30 AM at the York Theatre\, located at 150 N. York Street. Trick-or-treating in downtown Elmhurst after the movie! \n\n	 \n\n	The 2011 animated film "How To Train Your Dragon" tells the story of a hapless young Viking who aspires to hunt dragons\, and after becoming the unlikely friend of a young dragon himself\, he learns there may be more to the creatures than he assumed.\n\n	 \n\n	"Every year\, we look forward to Halloween as the community comes together for a fun-filled costume parade and better yet\, a free movie!" says Chris Johnson\, vice president of Classic Cinemas. \n\n	 \n\n	Classic Cinemas\, based in Downers Grove\, Illinois\, is a family-owned company operated by Willis\, Shirley and Chris Johnson. Established in 1978\, Classic Cinemas operates 13 theatres with 100 screens in the northern Illinois area. Each auditorium is equipped with state-of-the-art digital projection and sound technology. For more information on Classic Cinemas\, please visit www.classiccinemas.com.
X-ALT-DESC;FMTTYPE=text/html:<style type="text/css">\n<!--{cke_protected}{C}%3C!%2D%2D%0D%0A%20%2F*%20Font%20Definitions%20*%2F%0D%0A%40font-face%0D%0A%09%7Bfont-family%3ATimes%3B%0D%0A%09panose-1%3A2%200%205%200%200%200%200%200%200%200%3B%0D%0A%09mso-font-charset%3A77%3B%0D%0A%09mso-generic-font-family%3Aroman%3B%0D%0A%09mso-font-format%3Aother%3B%0D%0A%09mso-font-pitch%3Avariable%3B%0D%0A%09mso-font-signature%3A3%200%200%200%201%200%3B%7D%0D%0A%40font-face%0D%0A%09%7Bfont-family%3ATahoma%3B%0D%0A%09panose-1%3A2%2011%206%204%203%205%204%204%202%204%3B%0D%0A%09mso-font-charset%3A0%3B%0D%0A%09mso-generic-font-family%3Aauto%3B%0D%0A%09mso-font-pitch%3Avariable%3B%0D%0A%09mso-font-signature%3A3%200%200%200%201%200%3B%7D%0D%0A%20%2F*%20Style%20Definitions%20*%2F%0D%0Ap.MsoNormal%2C%20li.MsoNormal%2C%20div.MsoNormal%0D%0A%09%7Bmso-style-parent%3A%22%22%3B%0D%0A%09margin%3A0in%3B%0D%0A%09margin-bottom%3A.0001pt%3B%0D%0A%09mso-pagination%3Awidow-orphan%3B%0D%0A%09font-size%3A12.0pt%3B%0D%0A%09font-family%3A%22Times%20New%20Roman%22%3B%0D%0A%09mso-fareast-font-family%3A%22Times%20New%20Roman%22%3B%0D%0A%09mso-bidi-font-family%3A%22Times%20New%20Roman%22%3B%7D%0D%0Aa%3Alink%2C%20span.MsoHyperlink%0D%0A%09%7Bcolor%3Ablue%3B%0D%0A%09text-decoration%3Aunderline%3B%0D%0A%09text-underline%3Asingle%3B%7D%0D%0Aa%3Avisited%2C%20span.MsoHyperlinkFollowed%0D%0A%09%7Bmso-style-noshow%3Ayes%3B%0D%0A%09color%3Apurple%3B%0D%0A%09text-decoration%3Aunderline%3B%0D%0A%09text-underline%3Asingle%3B%7D%0D%0A%40page%20Section1%0D%0A%09%7Bsize%3A8.5in%2011.0in%3B%0D%0A%09margin%3A1.0in%201.25in%201.0in%201.25in%3B%0D%0A%09mso-header-margin%3A.5in%3B%0D%0A%09mso-footer-margin%3A.5in%3B%0D%0A%09mso-paper-source%3A0%3B%7D%0D%0Adiv.Section1%0D%0A%09%7Bpage%3ASection1%3B%7D%0D%0A%2D%2D%3E--></style>\n<p class="MsoNormal" style="line-height: 150%\; margin-right: -0.5in">\n	<span style="font-family: tahoma\; mso-bidi-font-family: tahoma">Fall into fun during York Theatre&rsquo\;s annual BOO-tiful Halloween event on <b style="mso-bidi-font-weight: normal">Saturday\, October 27<sup>th</sup></b>\,<b style="mso-bidi-font-weight: normal"> </b>presented by the Elmhurst City Centre. Bring the whole family for a FREE screening of the family favorite <b style="mso-bidi-font-weight: normal">&ldquo\;How to Train Your Dragon&rdquo\;</b> <b style="mso-bidi-font-weight: normal">(PG) beginning at 9:30 AM</b> at the York Theatre\, <b style="mso-bidi-font-weight: normal">located at 150 N. York Street.</b> Trick-or-treating in downtown Elmhurst after the movie! </span></p>\n<p class="MsoNormal" style="line-height: 150%\; margin-right: -0.5in">\n	<span style="font-family: tahoma\; mso-bidi-font-family: tahoma">&nbsp\;</span></p>\n<p class="MsoNormal" style="line-height: 150%\; margin-right: -45pt">\n	<span style="font-family: tahoma\; mso-bidi-font-family: tahoma">The 2011 animated film<b style="mso-bidi-font-weight: normal"><i style="mso-bidi-font-style: normal"> &ldquo\;How To Train Your Dragon&rdquo\; </i></b>tells the story of a hapless young Viking who aspires to hunt dragons\, and after becoming the unlikely friend of a young dragon himself\, he learns there may be more to the creatures than he assumed.</span></p>\n<p class="MsoNormal" style="line-height: 150%\; margin-right: -45pt">\n	<span style="font-family: tahoma\; mso-bidi-font-family: tahoma">&nbsp\;</span></p>\n<p class="MsoNormal" style="line-height: 150%\; margin-right: -45pt">\n	<span style="font-family: tahoma\; mso-bidi-font-family: tahoma">&ldquo\;Every year\, we look forward to Halloween as the community comes together for a fun-filled costume parade and better yet\, a free movie!&rdquo\; says Chris Johnson\, vice president of Classic Cinemas. </span></p>\n<p class="MsoNormal" style="line-height: 150%\; margin-right: -45pt">\n	<span style="font-family: tahoma\; mso-bidi-font-family: tahoma">&nbsp\;</span></p>\n<p class="MsoNormal" style="line-height: 150%\; margin-right: -45pt">\n	<span style="line-height: 150%\; font-family: tahoma\; mso-bidi-font-size: 10.0pt">Classic Cinemas\, based in Downers Grove\, Illinois\, is a family-owned company operated by Willis\, Shirley and Chris Johnson. Established in 1978\, Classic Cinemas operates 13 theatres with 100 screens in the northern Illinois area. Each auditorium is equipped with state-of-the-art digital projection and sound technology. For more information on Classic Cinemas\, please visit </span><a href="http://www.classiccinemas.com"><span style="line-height: 150%\; mso-bidi-font-size: 10.0pt\; mso-fareast-font-family: times">www.classiccinemas.com</span></a><span style="line-height: 150%\; font-family: tahoma\; mso-bidi-font-size: 10.0pt">.</span></p>\n
LOCATION:150 N. York St. Classic Cinemas' York Theatre
UID:e.333.5091
SEQUENCE:3
DTSTAMP:20260424T162914Z
URL:https://chambermaster.elmhurstchamber.org/events/details/celebrate-a-boo-tiful-halloween-at-the-york-theatre-free-family-film-10-27-2012-5091
END:VEVENT

END:VCALENDAR
