BEGIN:VCALENDAR
VERSION:2.0
PRODID:-//ChamberMaster//Event Calendar 2.0//EN
METHOD:PUBLISH
X-PUBLISHED-TTL:P3D
REFRESH-INTERVAL:P3D
CALSCALE:GREGORIAN
BEGIN:VEVENT
DTSTART:20130928T150000Z
DTEND:20130928T210000Z
X-MICROSOFT-CDO-ALLDAYEVENT:FALSE
SUMMARY:Celebrate smithsonian Museum Day
DESCRIPTION:As a Smithsonian Affiliate the Lizzadro Museum will feature a special exhibit from the Smithsonian Museum of Natural History. Children and adults can participate in "Geode Find" an activity to find and crack open your very own geode to take home. Free admission will be offered to visitors presenting a Museum Day Ticker available on-line at www.smithsonianmag.com/museumday. The Museum Day ticket provides free admission to one person and guest.\n\nAges 5 years to adult 10 a.m. to 4 p.m.
X-ALT-DESC;FMTTYPE=text/html:As a Smithsonian Affiliate the Lizzadro Museum will feature a special exhibit from the Smithsonian Museum of Natural History. Children and adults can participate in &quot\;Geode Find&quot\; an activity to find and crack open your very own geode to take home. Free admission will be offered to visitors presenting a Museum Day Ticker available on-line at www.smithsonianmag.com/museumday. The Museum Day ticket provides free admission to one person and guest.<br />\nAges 5 years to adult 10 a.m. to 4 p.m.
LOCATION:Lizzadro Museum of Lapidary Art 220 Cottage Hill Elmhurst\, IL 60126
UID:e.333.5321
SEQUENCE:3
DTSTAMP:20260422T113033Z
URL:https://chambermaster.elmhurstchamber.org/events/details/celebrate-smithsonian-museum-day-09-28-2013-5321
END:VEVENT

END:VCALENDAR
