BEGIN:VCALENDAR
VERSION:2.0
PRODID:-//ChamberMaster//Event Calendar 2.0//EN
METHOD:PUBLISH
X-PUBLISHED-TTL:P3D
REFRESH-INTERVAL:P3D
CALSCALE:GREGORIAN
BEGIN:VEVENT
DTSTART:20111027T233000Z
DTEND:20111028T013000Z
X-MICROSOFT-CDO-ALLDAYEVENT:FALSE
SUMMARY:Celebrate the Elmhurst College Arts Showcase
DESCRIPTION:Elmhurst College joins SpringHill Suites Elmhurst to present a night of creativity and inspiration for the local community.  Elmhurst College's Music Department will provide a Jazz Combo and the Art Club will showcase original artwork\, allowing them to discuss their vision and ideas with community members\, guests and neighbors.  Celebrate local art and share in an evening of inspiration.  Let us know if you will be joining us\, 630.782.6300.
X-ALT-DESC;FMTTYPE=text/html:Elmhurst College joins SpringHill Suites Elmhurst to present a night of creativity and inspiration for the local community.&nbsp\; Elmhurst College&#39\;s Music Department will provide a Jazz Combo and the Art Club will showcase original artwork\, allowing them to discuss their vision and ideas with community members\, guests and neighbors.&nbsp\; Celebrate local art and share in an evening of inspiration.&nbsp\; Let us know if you will be joining us\, 630.782.6300.
LOCATION:SpringHill Suites Elmhurst 410 W. Lake Street Elmhurst\, Illinois 60126
UID:e.333.4517
SEQUENCE:3
DTSTAMP:20260425T120500Z
URL:https://chambermaster.elmhurstchamber.org/events/details/celebrate-the-elmhurst-college-arts-showcase-10-27-2011-4517
END:VEVENT

END:VCALENDAR
