BEGIN:VCALENDAR
VERSION:2.0
PRODID:-//ChamberMaster//Event Calendar 2.0//EN
METHOD:PUBLISH
X-PUBLISHED-TTL:P3D
REFRESH-INTERVAL:P3D
CALSCALE:GREGORIAN
BEGIN:VEVENT
DTSTART:20101012T180000Z
DTEND:20110227T230000Z
X-MICROSOFT-CDO-ALLDAYEVENT:FALSE
SUMMARY:Century City
DESCRIPTION:The City of Elmhurst commemorates its 100th year of incorporation with a look back at the last century through rare photos\, artifacts and video. "Century City" contemplates how Elmhurst was impacted by the change from a village to a city form of government in 1910\, and tells the stories of visionaries and innovations that have shaped the city in its first 100 years.
X-ALT-DESC;FMTTYPE=text/html:The City of Elmhurst commemorates its 100th year of incorporation with a look back at the last century through rare photos\, artifacts and video. "Century City" contemplates how Elmhurst was impacted by the change from a village to a city form of government in 1910\, and tells the stories of visionaries and innovations that have shaped the city in its first 100 years. 
LOCATION:Elmhurst Historical Museum 120 E. Park Ave. Elmhurst\, IL 60126
UID:e.333.3474
SEQUENCE:3
DTSTAMP:20260426T011023Z
URL:https://chambermaster.elmhurstchamber.org/events/details/century-city-10-12-2010-3474
END:VEVENT

END:VCALENDAR
