BEGIN:VCALENDAR
VERSION:2.0
PRODID:-//ChamberMaster//Event Calendar 2.0//EN
METHOD:PUBLISH
X-PUBLISHED-TTL:P3D
REFRESH-INTERVAL:P3D
CALSCALE:GREGORIAN
BEGIN:VEVENT
DTSTART:20130122T133000Z
DTEND:20130122T143000Z
X-MICROSOFT-CDO-ALLDAYEVENT:FALSE
SUMMARY:Chamber Board of Directors
DESCRIPTION:The Chamber office\, unless otherwise indicated on your agenda\, at 7:30 a.m.
X-ALT-DESC;FMTTYPE=text/html:<div>\n	<div>\n		The Chamber office\, unless otherwise indicated on your agenda\, at 7:30 a.m.</div>\n</div>\n
LOCATION:Elmhurst Chamber of Commerce 242 N York\, Ste 102 Elmhurst IL 60126
UID:e.333.5073
SEQUENCE:3
DTSTAMP:20260424T114402Z
URL:https://chambermaster.elmhurstchamber.org/events/details/chamber-board-of-directors-01-22-2013-5073
END:VEVENT

END:VCALENDAR
