BEGIN:VCALENDAR
VERSION:2.0
PRODID:-//ChamberMaster//Event Calendar 2.0//EN
METHOD:PUBLISH
X-PUBLISHED-TTL:P3D
REFRESH-INTERVAL:P3D
CALSCALE:GREGORIAN
BEGIN:VEVENT
DTSTART:20131112T133000Z
DTEND:20131112T143000Z
X-MICROSOFT-CDO-ALLDAYEVENT:FALSE
SUMMARY:Chamber Board of Directors
DESCRIPTION:Community Bank of Elmhurst\, at 7:30 a.m.
X-ALT-DESC;FMTTYPE=text/html:<div>\n	<div>\n		Community Bank of Elmhurst\, at 7:30 a.m.</div>\n</div>\n
LOCATION:Community Bank of Elmhurst 330 W. Butterfield Rd. Elmhurst
UID:e.333.5083
SEQUENCE:3
DTSTAMP:20260424T085047Z
URL:https://chambermaster.elmhurstchamber.org/events/details/chamber-board-of-directors-11-12-2013-5083
END:VEVENT

END:VCALENDAR
