BEGIN:VCALENDAR
VERSION:2.0
PRODID:-//ChamberMaster//Event Calendar 2.0//EN
METHOD:PUBLISH
X-PUBLISHED-TTL:P3D
REFRESH-INTERVAL:P3D
CALSCALE:GREGORIAN
BEGIN:VEVENT
DTSTART:20111011T123000Z
DTEND:20111011T140000Z
X-MICROSOFT-CDO-ALLDAYEVENT:FALSE
SUMMARY:Chamber Board of Directors Meeting
DESCRIPTION:The Chamber office\, unless otherwise indicated on your agenda\, at 7:30 a.m.
X-ALT-DESC;FMTTYPE=text/html:<div>The Chamber office\, unless otherwise indicated on your agenda\, at 7:30 a.m.</div>
LOCATION:
UID:e.333.3012
SEQUENCE:3
DTSTAMP:20260425T132518Z
URL:https://chambermaster.elmhurstchamber.org/events/details/chamber-board-of-directors-meeting-10-11-2011-3012
END:VEVENT

END:VCALENDAR
