BEGIN:VCALENDAR
VERSION:2.0
PRODID:-//ChamberMaster//Event Calendar 2.0//EN
METHOD:PUBLISH
X-PUBLISHED-TTL:P3D
REFRESH-INTERVAL:P3D
CALSCALE:GREGORIAN
BEGIN:VEVENT
DTSTART:20101109T133000Z
DTEND:20101109T150000Z
X-MICROSOFT-CDO-ALLDAYEVENT:FALSE
SUMMARY:Chamber Board of Directors Meeting
DESCRIPTION:The November Board of Directors meeting will be held at Community Bank of Elmhurst\, at 7:15 a.m.  Both outgoing and incoming Directors are invited\, and the election of the Chamber's 2011 Officers will take place.
X-ALT-DESC;FMTTYPE=text/html:<div>\n	The November Board of Directors meeting will be held at Community Bank of Elmhurst\, at 7:15 a.m.&nbsp\; Both outgoing and incoming Directors are invited\, and the election of the Chamber&#39\;s 2011 Officers will take place.&nbsp\;</div>\n
LOCATION:Community Bank of Elmhurst 330 W. Butterfield Rd. Elmhurst\, IL 60126
UID:e.333.3001
SEQUENCE:3
DTSTAMP:20260426T043128Z
URL:https://chambermaster.elmhurstchamber.org/events/details/chamber-board-of-directors-meeting-11-09-2010-3001
END:VEVENT

END:VCALENDAR
