BEGIN:VCALENDAR
VERSION:2.0
PRODID:-//ChamberMaster//Event Calendar 2.0//EN
METHOD:PUBLISH
X-PUBLISHED-TTL:P3D
REFRESH-INTERVAL:P3D
CALSCALE:GREGORIAN
BEGIN:VEVENT
DTSTART:20101214T133000Z
DTEND:20101214T150000Z
X-MICROSOFT-CDO-ALLDAYEVENT:FALSE
SUMMARY:Chamber Board of Directors Meeting
DESCRIPTION:The Chamber office\, unless otherwise indicated on your agenda\, at 7:30 a.m.
X-ALT-DESC;FMTTYPE=text/html:<div>The Chamber office\, unless otherwise indicated on your agenda\, at 7:30 a.m.</div>
LOCATION:Chamber Office 242 N.York St.\, Ste. 102 Elmhurst\, IL 60126
UID:e.333.3002
SEQUENCE:3
DTSTAMP:20260426T030009Z
URL:https://chambermaster.elmhurstchamber.org/events/details/chamber-board-of-directors-meeting-12-14-2010-3002
END:VEVENT

END:VCALENDAR
