BEGIN:VCALENDAR
VERSION:2.0
PRODID:-//ChamberMaster//Event Calendar 2.0//EN
METHOD:PUBLISH
X-PUBLISHED-TTL:P3D
REFRESH-INTERVAL:P3D
CALSCALE:GREGORIAN
BEGIN:VEVENT
DTSTART:20110111T133000Z
DTEND:20110111T150000Z
X-MICROSOFT-CDO-ALLDAYEVENT:FALSE
SUMMARY:Chamber Board of Directors Meeting and Annual Advance
DESCRIPTION:The Chamber Board of Directors meeting and Annual Advance\, will be held at Elmhurst College\, in the Blume Board Room\, in the Frick Center\, from 7:30 to 11:30 a.m.\n\n	\n\n	Please contact the Chamber office if you are unable to attend.
X-ALT-DESC;FMTTYPE=text/html:<div>\n	The Chamber Board of Directors meeting and Annual Advance\, will be held at Elmhurst College\, in the Blume Board Room\, in the Frick Center\, from 7:30 to 11:30 a.m.<br />\n	<br />\n	Please contact the Chamber office if you are unable to attend.</div>\n
LOCATION:Blume Board Room Frick Center Elmhurst College
UID:e.333.2993
SEQUENCE:3
DTSTAMP:20260426T011416Z
URL:https://chambermaster.elmhurstchamber.org/events/details/chamber-board-of-directors-meeting-and-annual-advance-01-11-2011-2993
END:VEVENT

END:VCALENDAR
