BEGIN:VCALENDAR
VERSION:2.0
PRODID:-//ChamberMaster//Event Calendar 2.0//EN
METHOD:PUBLISH
X-PUBLISHED-TTL:P3D
REFRESH-INTERVAL:P3D
CALSCALE:GREGORIAN
BEGIN:VEVENT
DTSTART:20120912T130000Z
DTEND:20120912T220000Z
X-MICROSOFT-CDO-ALLDAYEVENT:FALSE
SUMMARY:Chamber Breakfast and Open House
DESCRIPTION:In celebration of Chamber of Commerce Month\, the Chamber\, with sponsorship from AT&T\, will host a Membership Breakfast and Open House on Wednesday\, September 12.  The Membership Breakfast will run from 8 to 9 a.m.\, and the Open House will run from 9 a.m. to 5 p.m.
X-ALT-DESC;FMTTYPE=text/html:In celebration of Chamber of Commerce Month\, the Chamber\, with sponsorship from AT&amp\;T\, will host a Membership Breakfast and Open House on Wednesday\, September 12.&nbsp\; The Membership Breakfast will run from 8 to 9 a.m.\, and the Open House will run from 9 a.m. to 5 p.m.
LOCATION:Elmhurst Chamber of Commerce & Industry 242 N. York St.\, Ste. 102 Elmhurst\, IL 60126
UID:e.333.4878
SEQUENCE:3
DTSTAMP:20260424T175705Z
URL:https://chambermaster.elmhurstchamber.org/events/details/chamber-breakfast-and-open-house-09-12-2012-4878
END:VEVENT

END:VCALENDAR
