BEGIN:VCALENDAR
VERSION:2.0
PRODID:-//ChamberMaster//Event Calendar 2.0//EN
METHOD:PUBLISH
X-PUBLISHED-TTL:P3D
REFRESH-INTERVAL:P3D
CALSCALE:GREGORIAN
BEGIN:VEVENT
DTSTART:20110413T220000Z
DTEND:20110414T000000Z
X-MICROSOFT-CDO-ALLDAYEVENT:FALSE
SUMMARY:Chamber Business After Hours
DESCRIPTION:The Chamber's April Business After Hours will be hosted by Big Lobby\, Inc. on Wednesday\, April 13\, from 5:00 to 7:00 p.m.
X-ALT-DESC;FMTTYPE=text/html:<div>\n	The Chamber&rsquo\;s&nbsp\;April Business After Hours will be hosted by&nbsp\;<strong><a href="http://chambermaster.elmhurstchamber.org/list/Member/big-lobby-inc.htm">Big Lobby\, Inc</a>.&nbsp\;</strong>on Wednesday\, April 13\, from 5:00 to 7:00 p.m.&nbsp\;&nbsp\;&nbsp\;<br />\n	&nbsp\;</div>\n
LOCATION:Big Lobby\, Inc 210 N.York St.\, Ste. 101 Elmhurst\, IL 60126
UID:e.333.4156
SEQUENCE:3
DTSTAMP:20260425T204748Z
URL:https://chambermaster.elmhurstchamber.org/events/details/chamber-business-after-hours-04-13-2011-4156
END:VEVENT

END:VCALENDAR
