BEGIN:VCALENDAR
VERSION:2.0
PRODID:-//ChamberMaster//Event Calendar 2.0//EN
METHOD:PUBLISH
X-PUBLISHED-TTL:P3D
REFRESH-INTERVAL:P3D
CALSCALE:GREGORIAN
BEGIN:VEVENT
DTSTART:20110526T220000Z
DTEND:20110527T000000Z
X-MICROSOFT-CDO-ALLDAYEVENT:FALSE
SUMMARY:Chamber Business After Hours
DESCRIPTION:The Chamber's May Business After Hours will be hosted on Thursday\, May 26\, from 5:00 to 7:00 p.m. by\n\n	Patricks Pros\n\n	Elm Creek Apartments\n\n	Pampered Chef\n\n	Angelo's Ristorante
X-ALT-DESC;FMTTYPE=text/html:<div>\n	The Chamber&rsquo\;s&nbsp\;May Business After Hours will be hosted on Thursday\, May 26\, from 5:00 to 7:00 p.m. by<br />\n	<a href="http://chambermaster.elmhurstchamber.org/list/Member/patrick-s-pro-s-villa-park.htm">Patricks Pros</a><br />\n	<a href="http://chambermaster.elmhurstchamber.org/list/Member/elm-creek-apartments-elmhurst.htm">Elm Creek Apartments</a><br />\n	<a href="http://chambermaster.elmhurstchamber.org/list/Member/pampered-chef-tlg.htm">Pampered Chef</a><br />\n	<a href="http://chambermaster.elmhurstchamber.org/list/Member/angelo-s-ristorante-elmhurst.htm">Angelo&#39\;s Ristorante&nbsp\;</a>&nbsp\;&nbsp\;&nbsp\;<br />\n	&nbsp\;</div>\n
LOCATION:Elm Creek Apartments One Elm Creek Dr. Elmhurst\, IL 60126
UID:e.333.4210
SEQUENCE:3
DTSTAMP:20260425T192058Z
URL:https://chambermaster.elmhurstchamber.org/events/details/chamber-business-after-hours-05-26-2011-4210
END:VEVENT

END:VCALENDAR
