BEGIN:VCALENDAR
VERSION:2.0
PRODID:-//ChamberMaster//Event Calendar 2.0//EN
METHOD:PUBLISH
X-PUBLISHED-TTL:P3D
REFRESH-INTERVAL:P3D
CALSCALE:GREGORIAN
BEGIN:VEVENT
DTSTART:20110714T220000Z
DTEND:20110715T000000Z
X-MICROSOFT-CDO-ALLDAYEVENT:FALSE
SUMMARY:Chamber Business After Hours
DESCRIPTION:The July Chamber Business After Hours will take place on Thursday\, July 14\, from 5 to 7 p.m.  This event will be hosted by Tail Gate
X-ALT-DESC;FMTTYPE=text/html:<br />\nThe&nbsp\;July Chamber Business After Hours will&nbsp\;take place on Thursday\, July 14\, from 5 to&nbsp\;7 p.m.&nbsp\; This event will be hosted by&nbsp\;<a href="http://www.tailgatefordogs.com">Tail Gate</a>&nbsp\;
LOCATION:830 North Addison Avenue Elmhurst\, IL 60126
UID:e.333.4242
SEQUENCE:3
DTSTAMP:20260425T161529Z
URL:https://chambermaster.elmhurstchamber.org/events/details/chamber-business-after-hours-07-14-2011-4242
END:VEVENT

END:VCALENDAR
