BEGIN:VCALENDAR
VERSION:2.0
PRODID:-//ChamberMaster//Event Calendar 2.0//EN
METHOD:PUBLISH
X-PUBLISHED-TTL:P3D
REFRESH-INTERVAL:P3D
CALSCALE:GREGORIAN
BEGIN:VEVENT
DTSTART:20120726T220000Z
DTEND:20120727T000000Z
X-MICROSOFT-CDO-ALLDAYEVENT:FALSE
SUMMARY:Chamber Business After Hours
DESCRIPTION:This month's Business After Hours will be a Multi-Chamber event hosted by Elmhurst College from 5 to 7 p.m.\, on Thursday\, July 26\, in the Frick Center Founder's Lounge.  There will be a raffle\, so please bring your business cards!\n\n\n\nParticipating Chambers:\n\n\n\nAddison\n\nChoose DuPage\n\nDowners Grove\n\nElmhurst\n\nGOA\n\nLombard\n\n\n\nImportant Note - Parking is available in the Alexander Street lot.  \n\n\n\nPlease click on this link for a map of the campus: http://public.elmhurst.edu/about/location/113234904.html
X-ALT-DESC;FMTTYPE=text/html:This&nbsp\;month&#39\;s Business After Hours will&nbsp\;be a Multi-Chamber&nbsp\;event&nbsp\;hosted by Elmhurst&nbsp\;College from&nbsp\;5 to 7 p.m.\, on&nbsp\;Thursday\, July&nbsp\;26\, in the Frick&nbsp\;Center Founder&#39\;s Lounge.&nbsp\;&nbsp\;There will be a&nbsp\;raffle\, so&nbsp\;please bring your&nbsp\;business cards!<br />\n<br />\n<strong>Participating Chambers:</strong><br />\n<br />\nAddison<br />\nChoose DuPage<br />\nDowners Grove<br />\nElmhurst<br />\nGOA<br />\nLombard<br />\n<br />\n<strong>Important&nbsp\;Note - Parking is available&nbsp\;in the&nbsp\;Alexander Street lot.&nbsp\;&nbsp\;</strong><br />\n<br />\nPlease&nbsp\;click&nbsp\;on this&nbsp\;link&nbsp\;for&nbsp\;a map of the campus: <a href="http://public.elmhurst.edu/about/location/113234904.html">http://public.elmhurst.edu/about/location/113234904.html</a><br />\n
LOCATION:Elmhurst College Frick Center 190 Prospect Avenue Elmhurst
UID:e.333.4854
SEQUENCE:3
DTSTAMP:20260424T212117Z
URL:https://chambermaster.elmhurstchamber.org/events/details/chamber-business-after-hours-07-26-2012-4854
END:VEVENT

END:VCALENDAR
