BEGIN:VCALENDAR
VERSION:2.0
PRODID:-//ChamberMaster//Event Calendar 2.0//EN
METHOD:PUBLISH
X-PUBLISHED-TTL:P3D
REFRESH-INTERVAL:P3D
CALSCALE:GREGORIAN
BEGIN:VEVENT
DTSTART:20110825T220000Z
DTEND:20110826T000000Z
X-MICROSOFT-CDO-ALLDAYEVENT:FALSE
SUMMARY:Chamber Business After Hours
DESCRIPTION:The August Chamber Business After Hours will take place on Thursday\, August 25\, from 5 to 7 p.m.  This event will be hosted by MB Financial Bank.
X-ALT-DESC;FMTTYPE=text/html:The&nbsp\;August Chamber Business After Hours will&nbsp\;take place on Thursday\, August 25\, from 5 to&nbsp\;7 p.m.&nbsp\; This event will be hosted by&nbsp\;<a href="http://chambermaster.elmhurstchamber.org/list/member/mb-financial-bank-elmhurst.htm">MB Financial&nbsp\;Bank</a>.
LOCATION:990 N. York St. Elmhurst IL 60126
UID:e.333.4255
SEQUENCE:3
DTSTAMP:20260425T144953Z
URL:https://chambermaster.elmhurstchamber.org/events/details/chamber-business-after-hours-08-25-2011-4255
END:VEVENT

END:VCALENDAR
