BEGIN:VCALENDAR
VERSION:2.0
PRODID:-//ChamberMaster//Event Calendar 2.0//EN
METHOD:PUBLISH
X-PUBLISHED-TTL:P3D
REFRESH-INTERVAL:P3D
CALSCALE:GREGORIAN
BEGIN:VEVENT
DTSTART:20120829T220000Z
DTEND:20120830T000000Z
X-MICROSOFT-CDO-ALLDAYEVENT:FALSE
SUMMARY:Chamber Business After Hours
DESCRIPTION:This month's Business After Hours will be hosted by Park Place of Elmhurst and the Leukemia and Lymphoma Society.  It will take place at Park Place of Elmhurst\, located at 1050 S. Euclid\, from 5 to 7 p.m.  For more information please visit the following sites:\n\n\n\nwww.parkplaceelmhurst.com \n\n\n\nwww.lls.org
X-ALT-DESC;FMTTYPE=text/html:This month&#39\;s Business After Hours will be hosted by Park Place of Elmhurst and the Leukemia and&nbsp\;Lymphoma&nbsp\;Society.&nbsp\; It will take place at Park Place of Elmhurst\, located at&nbsp\;1050 S. Euclid\,&nbsp\;from 5 to&nbsp\;7 p.m.&nbsp\;&nbsp\;For more&nbsp\;information please visit the following sites:<br />\n<br />\n<a href="http://www.parkplaceelmhurst.com">www.parkplaceelmhurst.com</a>&nbsp\;<br />\n<br />\n<a href="http://www.lls.org">www.lls.org</a><br />\n<br />\n<br />\n<br />\n<br />\n<br />\n<br />\n<br />\n<br />\n
LOCATION:1050 S. Euclid Elmhurst
UID:e.333.4881
SEQUENCE:3
DTSTAMP:20260424T193852Z
URL:https://chambermaster.elmhurstchamber.org/events/details/chamber-business-after-hours-08-29-2012-4881
END:VEVENT

END:VCALENDAR
