BEGIN:VCALENDAR
VERSION:2.0
PRODID:-//ChamberMaster//Event Calendar 2.0//EN
METHOD:PUBLISH
X-PUBLISHED-TTL:P3D
REFRESH-INTERVAL:P3D
CALSCALE:GREGORIAN
BEGIN:VEVENT
DTSTART:20111006T220000Z
DTEND:20111007T000000Z
X-MICROSOFT-CDO-ALLDAYEVENT:FALSE
SUMMARY:Chamber Business After Hours
DESCRIPTION:The October Business After Hours will be hosted by Nancy's Restaurant & Lounge on Thursday October 6\, from 5 to 7 p.m.  To view their website please click here
X-ALT-DESC;FMTTYPE=text/html:The October Business After Hours will be hosted by Nancy&#39\;s Restaurant &amp\; Lounge&nbsp\;on Thursday&nbsp\;October 6\, from 5 to 7 p.m.&nbsp\; To&nbsp\;view their website please click&nbsp\;<a href="http://www.nancyspizza.com">here</a>&nbsp\; 
LOCATION:940 N York St.\, Elmhurst
UID:e.333.4260
SEQUENCE:3
DTSTAMP:20260425T132407Z
URL:https://chambermaster.elmhurstchamber.org/events/details/chamber-business-after-hours-10-06-2011-4260
END:VEVENT

END:VCALENDAR
