BEGIN:VCALENDAR
VERSION:2.0
PRODID:-//ChamberMaster//Event Calendar 2.0//EN
METHOD:PUBLISH
X-PUBLISHED-TTL:P3D
REFRESH-INTERVAL:P3D
CALSCALE:GREGORIAN
BEGIN:VEVENT
DTSTART:20121025T220000Z
DTEND:20121026T000000Z
X-MICROSOFT-CDO-ALLDAYEVENT:FALSE
SUMMARY:Chamber Business After Hours
DESCRIPTION:This month's business after hours will be hosted by Pure Harmony Massage\, located at 110 Schiller St.\, Suite 202\, Elmhurst.
X-ALT-DESC;FMTTYPE=text/html:This&nbsp\;month&#39\;s&nbsp\;business after hours will be&nbsp\;hosted by Pure&nbsp\;Harmony Massage\, located at 110&nbsp\;Schiller St.\, Suite&nbsp\;202\, Elmhurst.
LOCATION:110 Schiller St.\, Suite 202 Elmhurst\, IL 60126
UID:e.333.4894
SEQUENCE:3
DTSTAMP:20260424T162434Z
URL:https://chambermaster.elmhurstchamber.org/events/details/chamber-business-after-hours-10-25-2012-4894
END:VEVENT

END:VCALENDAR
