BEGIN:VCALENDAR
VERSION:2.0
PRODID:-//ChamberMaster//Event Calendar 2.0//EN
METHOD:PUBLISH
X-PUBLISHED-TTL:P3D
REFRESH-INTERVAL:P3D
CALSCALE:GREGORIAN
BEGIN:VEVENT
DTSTART:20121115T230000Z
DTEND:20121116T010000Z
X-MICROSOFT-CDO-ALLDAYEVENT:FALSE
SUMMARY:Chamber Business After Hours
DESCRIPTION:This month's Business After Hours will be hosted by Embers Fire & Smoke (formerly Charlie's Bar & Grill) located at 122 S. York St.
X-ALT-DESC;FMTTYPE=text/html:This month&#39\;s Business After Hours will be hosted by Embers Fire &amp\; Smoke (formerly Charlie&#39\;s Bar &amp\; Grill)&nbsp\;located at 122 S. York St.&nbsp\;<br />\n
LOCATION:122 S. York St. Elmhurst
UID:e.333.4921
SEQUENCE:3
DTSTAMP:20260424T145506Z
URL:https://chambermaster.elmhurstchamber.org/events/details/chamber-business-after-hours-11-15-2012-4921
END:VEVENT

END:VCALENDAR
