BEGIN:VCALENDAR
VERSION:2.0
PRODID:-//ChamberMaster//Event Calendar 2.0//EN
METHOD:PUBLISH
X-PUBLISHED-TTL:P3D
REFRESH-INTERVAL:P3D
CALSCALE:GREGORIAN
BEGIN:VEVENT
DTSTART:20131121T230000Z
DTEND:20131122T010000Z
X-MICROSOFT-CDO-ALLDAYEVENT:FALSE
SUMMARY:Chamber Business After Hours
DESCRIPTION:This month's Business After Hours will be hosted by Cottage Hill Diamonds and Francesca's Amici.  The event will take place at Cottage Hill Diamonds\, located at 125 N. York St. on Thursday\, November 21\, from 5 to 7 p.m.
X-ALT-DESC;FMTTYPE=text/html:This month&#39\;s Business After Hours will be hosted by Cottage Hill Diamonds and Francesca&#39\;s Amici.&nbsp\; The event will take place at Cottage Hill Diamonds\, located at 125 N. York St. on Thursday\, November 21\, from 5 to 7 p.m.<br />\n<br />\n<br />\n
LOCATION:Cottage Hill Diamonds 125 N. York St. Elmhurst
UID:e.333.5528
SEQUENCE:3
DTSTAMP:20260420T125007Z
URL:https://chambermaster.elmhurstchamber.org/events/details/chamber-business-after-hours-11-21-2013-5528
END:VEVENT

END:VCALENDAR
