BEGIN:VCALENDAR
VERSION:2.0
PRODID:-//ChamberMaster//Event Calendar 2.0//EN
METHOD:PUBLISH
X-PUBLISHED-TTL:P3D
REFRESH-INTERVAL:P3D
CALSCALE:GREGORIAN
BEGIN:VEVENT
DTSTART:20111215T230000Z
DTEND:20111216T010000Z
X-MICROSOFT-CDO-ALLDAYEVENT:FALSE
SUMMARY:Chamber Business After Hours
DESCRIPTION:The Chamber Holiday Business After hours will be hosted by the Community Bank of Elmhurst and the David Agency on Thursday December 15\, from 5-7 p.m. at the Community Bank of Elmhurst.
X-ALT-DESC;FMTTYPE=text/html:<p>\n	The Chamber&nbsp\;Holiday Business After hours will be hosted by the Community Bank of Elmhurst and the David Agency on Thursday December 15\, from 5-7 p.m. at the Community Bank of Elmhurst.</p>\n
LOCATION:330 W. Butterfield Rd. Elmhurst\, IL 60126
UID:e.333.4411
SEQUENCE:3
DTSTAMP:20260425T102805Z
URL:https://chambermaster.elmhurstchamber.org/events/details/chamber-business-after-hours-12-15-2011-4411
END:VEVENT

END:VCALENDAR
