BEGIN:VCALENDAR
VERSION:2.0
PRODID:-//ChamberMaster//Event Calendar 2.0//EN
METHOD:PUBLISH
X-PUBLISHED-TTL:P3D
REFRESH-INTERVAL:P3D
CALSCALE:GREGORIAN
BEGIN:VEVENT
DTSTART:20250408T220000Z
DTEND:20250409T000000Z
X-MICROSOFT-CDO-ALLDAYEVENT:FALSE
SUMMARY:Chamber Business After Hours
DESCRIPTION:This month's Chamber Business After Hours will be co-hosted by the Chicago House AC Soccer Team and Jordan's Athletic Center at Jordan's downtown Elmhurst location at 111 Adell Place on Tuesday\, April 8\, from 5 to 7 p.m.\n\n\n\nChamber members are invited to meet the semi-pro men's and women's Chicago House AC Soccer Teams coming to Langhorst Field at Elmhurst University this spring and summer\, and check out Jordan's Athletic Center.
X-ALT-DESC;FMTTYPE=text/html:This month&#39\;s Chamber Business After Hours will be co-hosted by the Chicago House AC Soccer Team and Jordan&#39\;s Athletic Center at Jordan&#39\;s downtown Elmhurst location at 111 Adell Place on Tuesday\, April 8\, from 5 to 7 p.m.<br />\n<br />\nChamber members are invited to meet the semi-pro men&#39\;s and women&#39\;s Chicago House AC Soccer Teams coming to Langhorst Field at Elmhurst University this spring and summer\, and check out Jordan&#39\;s Athletic Center.
LOCATION:Jordan's Athletic Center 111 Adell Place Elmhurst\, IL 60126
UID:e.333.16597
SEQUENCE:3
DTSTAMP:20260419T170216Z
URL:https://chambermaster.elmhurstchamber.org/events/details/chamber-business-after-hours-16597
END:VEVENT

END:VCALENDAR
