BEGIN:VCALENDAR
VERSION:2.0
PRODID:-//ChamberMaster//Event Calendar 2.0//EN
METHOD:PUBLISH
X-PUBLISHED-TTL:P3D
REFRESH-INTERVAL:P3D
CALSCALE:GREGORIAN
BEGIN:VEVENT
DTSTART:20260617T220000Z
DTEND:20260618T000000Z
X-MICROSOFT-CDO-ALLDAYEVENT:FALSE
SUMMARY:Chamber Business After Hours
DESCRIPTION:This month's Chamber Business After Hours will be hosted by Park Place of Elmhurst on Wednesday\, June 17\, from 5 to 7 p.m.
X-ALT-DESC;FMTTYPE=text/html:This month&#39\;s Chamber Business After Hours will be hosted by Park Place of Elmhurst on Wednesday\, June 17\, from 5 to 7 p.m.&nbsp\;
LOCATION:1050 S. Euclid Ave. Elmhurst\, IL 60126
UID:e.333.17141
SEQUENCE:3
DTSTAMP:20260421T230348Z
URL:https://chambermaster.elmhurstchamber.org/events/details/chamber-business-after-hours-17141
END:VEVENT

END:VCALENDAR
