BEGIN:VCALENDAR
VERSION:2.0
PRODID:-//ChamberMaster//Event Calendar 2.0//EN
METHOD:PUBLISH
X-PUBLISHED-TTL:P3D
REFRESH-INTERVAL:P3D
CALSCALE:GREGORIAN
BEGIN:VEVENT
DTSTART:20261028T220000Z
DTEND:20261029T000000Z
X-MICROSOFT-CDO-ALLDAYEVENT:FALSE
SUMMARY:Chamber Business After Hours
DESCRIPTION:This month's Halloween-themed Chamber Business After Hours will be hosted by Elmhurst Bank in downtown Elmhurst on Wednesday\, October 28\, from 5 to 7 p.m.
X-ALT-DESC;FMTTYPE=text/html:This month&#39\;s Halloween-themed Chamber Business After Hours will be hosted by Elmhurst Bank in downtown Elmhurst on Wednesday\, October 28\, from 5 to 7 p.m.<br />\n&nbsp\;
LOCATION:Elmhurst Bank 115 W. Third Street Elmhurst\, IL 60126
UID:e.333.17155
SEQUENCE:3
DTSTAMP:20260426T042207Z
URL:https://chambermaster.elmhurstchamber.org/events/details/chamber-business-after-hours-17155
END:VEVENT

END:VCALENDAR
