BEGIN:VCALENDAR
VERSION:2.0
PRODID:-//ChamberMaster//Event Calendar 2.0//EN
METHOD:PUBLISH
X-PUBLISHED-TTL:P3D
REFRESH-INTERVAL:P3D
CALSCALE:GREGORIAN
BEGIN:VEVENT
DTSTART:20110518T164500Z
DTEND:20110518T180000Z
X-MICROSOFT-CDO-ALLDAYEVENT:FALSE
SUMMARY:Chamber Executive Briefing
DESCRIPTION:The bi-monthly Executive Briefiing\, a members-only lunch and learn with Chamber Executives\, will be held at the Chamber office on Wednesday from 11:45 a.m to 1:00 p.m.
X-ALT-DESC;FMTTYPE=text/html:<div>\n	The bi-monthly Executive Briefiing\, a members-only lunch and learn with Chamber Executives\, will be held at the Chamber office on Wednesday from 11:45 a.m to 1:00 p.m.&nbsp\;</div>\n
LOCATION:Chamber Office242 N. York St.\, Ste. 102Elmhurst
UID:e.333.3399
SEQUENCE:3
DTSTAMP:20260425T191056Z
URL:https://chambermaster.elmhurstchamber.org/events/details/chamber-executive-briefing-05-18-2011-3399
END:VEVENT

END:VCALENDAR
