BEGIN:VCALENDAR
VERSION:2.0
PRODID:-//ChamberMaster//Event Calendar 2.0//EN
METHOD:PUBLISH
X-PUBLISHED-TTL:P3D
REFRESH-INTERVAL:P3D
CALSCALE:GREGORIAN
BEGIN:VEVENT
DTSTART:20110124T133000Z
DTEND:20110124T143000Z
X-MICROSOFT-CDO-ALLDAYEVENT:FALSE
SUMMARY:Chamber Executive Committee Meeting
DESCRIPTION:The Executive Committee of the Elmhurst Chamber of Commerce will meet at the Chamber office\, at 7:30 a.m.
X-ALT-DESC;FMTTYPE=text/html:<div>\n	The Executive Committee of the Elmhurst Chamber of Commerce will meet at the Chamber office\, at 7:30 a.m.</div>\n
LOCATION:Chamber Office242 N. York St.\, Ste. 102Elmhurst\, IL 60126
UID:e.333.4712
SEQUENCE:3
DTSTAMP:20260426T024445Z
URL:https://chambermaster.elmhurstchamber.org/events/details/chamber-executive-committee-meeting-01-24-2011-4712
END:VEVENT

END:VCALENDAR
