BEGIN:VCALENDAR
VERSION:2.0
PRODID:-//ChamberMaster//Event Calendar 2.0//EN
METHOD:PUBLISH
X-PUBLISHED-TTL:P3D
REFRESH-INTERVAL:P3D
CALSCALE:GREGORIAN
BEGIN:VEVENT
DTSTART:20120709T130000Z
DTEND:20120709T140000Z
X-MICROSOFT-CDO-ALLDAYEVENT:FALSE
SUMMARY:Chamber Executive Committee Meeting
DESCRIPTION:The Executive Committee will meet at the Chamber office at 8:00 a.m.
X-ALT-DESC;FMTTYPE=text/html:The Executive Committee will meet at the Chamber office at 8:00 a.m.<br />\n<br />\n
LOCATION:Chamber Office 242 N. York st.\, Ste. 102 Elmhurst\, IL 60126
UID:e.333.4875
SEQUENCE:3
DTSTAMP:20260424T212153Z
URL:https://chambermaster.elmhurstchamber.org/events/details/chamber-executive-committee-meeting-07-09-2012-4875
END:VEVENT

END:VCALENDAR
