BEGIN:VCALENDAR
VERSION:2.0
PRODID:-//ChamberMaster//Event Calendar 2.0//EN
METHOD:PUBLISH
X-PUBLISHED-TTL:P3D
REFRESH-INTERVAL:P3D
CALSCALE:GREGORIAN
BEGIN:VEVENT
DTSTART:20101122T133000Z
DTEND:20101122T143000Z
X-MICROSOFT-CDO-ALLDAYEVENT:FALSE
SUMMARY:Chamber Executive Committee Meeting
DESCRIPTION:The Executive Committee of the Elmhurst Chamber of Commerce will meet at the Chamber office\, at 7:30 a.m.
X-ALT-DESC;FMTTYPE=text/html:<div>\n	The Executive Committee of the Elmhurst Chamber of Commerce will meet at the Chamber office\, at 7:30 a.m.</div>\n
LOCATION:Chamber Office242 N. York St.\, Ste. 102Elmhurst\, IL 60126
UID:e.333.2164
SEQUENCE:3
DTSTAMP:20260426T042949Z
URL:https://chambermaster.elmhurstchamber.org/events/details/chamber-executive-committee-meeting-11-22-2010-2164
END:VEVENT

END:VCALENDAR
