BEGIN:VCALENDAR
VERSION:2.0
PRODID:-//ChamberMaster//Event Calendar 2.0//EN
METHOD:PUBLISH
X-PUBLISHED-TTL:P3D
REFRESH-INTERVAL:P3D
CALSCALE:GREGORIAN
BEGIN:VEVENT
DTSTART:20121227T133000Z
DTEND:20121227T150000Z
X-MICROSOFT-CDO-ALLDAYEVENT:FALSE
SUMMARY:Chamber Governmental Affairs Committee Meeting
DESCRIPTION:The Chamber's Governmental Affairs Committee will meet at the Chamber office\, at 7:30 a.m.
X-ALT-DESC;FMTTYPE=text/html:<div>\n	The Chamber&#39\;s Governmental Affairs Committee will meet at the Chamber office\, at 7:30 a.m.</div>\n
LOCATION:Chamber Office 242 N York\, Ste 102 Elmhurst\, IL 60126
UID:e.333.4560
SEQUENCE:3
DTSTAMP:20260424T132221Z
URL:https://chambermaster.elmhurstchamber.org/events/details/chamber-governmental-affairs-committee-meeting-12-27-2012-4560
END:VEVENT

END:VCALENDAR
