BEGIN:VCALENDAR
VERSION:2.0
PRODID:-//ChamberMaster//Event Calendar 2.0//EN
METHOD:PUBLISH
X-PUBLISHED-TTL:P3D
REFRESH-INTERVAL:P3D
CALSCALE:GREGORIAN
BEGIN:VEVENT
DTSTART:20120717T130000Z
DTEND:20120717T140000Z
X-MICROSOFT-CDO-ALLDAYEVENT:FALSE
SUMMARY:Chamber Marketing Committee Meeting
DESCRIPTION:The Marketing Committee will meet at the chamber office at 8 a.m.
X-ALT-DESC;FMTTYPE=text/html:The Marketing Committee will meet at the chamber office at 8 a.m.
LOCATION:The Chamber Office 242 N. York St. Ste. 102 Elmhurst\, IL 60126
UID:e.333.4872
SEQUENCE:3
DTSTAMP:20260424T212518Z
URL:https://chambermaster.elmhurstchamber.org/events/details/chamber-marketing-committee-meeting-07-17-2012-4872
END:VEVENT

END:VCALENDAR
