BEGIN:VCALENDAR
VERSION:2.0
PRODID:-//ChamberMaster//Event Calendar 2.0//EN
METHOD:PUBLISH
X-PUBLISHED-TTL:P3D
REFRESH-INTERVAL:P3D
CALSCALE:GREGORIAN
BEGIN:VEVENT
DTSTART:20111104T130000Z
DTEND:20111104T140000Z
X-MICROSOFT-CDO-ALLDAYEVENT:FALSE
SUMMARY:Chamber Member Breakfast
DESCRIPTION:The November Member Breakfast will be hosted by Elmhurst Memorial Hospital on Friday\, November 4\, from 8 - 9 a.m.   If you have not seen the new hospital yet\, this is a good reason to visit!
X-ALT-DESC;FMTTYPE=text/html:The November&nbsp\;Member Breakfast&nbsp\;will be hosted by Elmhurst&nbsp\;Memorial Hospital&nbsp\;on Friday\,&nbsp\;November 4\, from&nbsp\;8 - 9 a.m.&nbsp\;&nbsp\; If you have not seen the new hospital yet\, this is a good reason to visit!
LOCATION:155 E. Brush Hill Rd Oak Room Elmhurst IL 60126 Park in GREEN parking lot Enter the East Lobby of main hospital building Take the elevator to the Lower Level\, make a left off of the elevator and go to the Oak Room
UID:e.333.4271
SEQUENCE:3
DTSTAMP:20260425T102545Z
URL:https://chambermaster.elmhurstchamber.org/events/details/chamber-member-breakfast-11-04-2011-4271
END:VEVENT

END:VCALENDAR
