BEGIN:VCALENDAR
VERSION:2.0
PRODID:-//ChamberMaster//Event Calendar 2.0//EN
METHOD:PUBLISH
X-PUBLISHED-TTL:P3D
REFRESH-INTERVAL:P3D
CALSCALE:GREGORIAN
BEGIN:VEVENT
DTSTART:20110217T140000Z
DTEND:20110217T150000Z
X-MICROSOFT-CDO-ALLDAYEVENT:FALSE
SUMMARY:Chamber Membership Breakfast
DESCRIPTION:The Chamber's February Membership Breakfast will be hosted by Fifi's Tailor & Custom Design\, on Thursday\, February 17\, from 8:00 to 9:00 a.m.
X-ALT-DESC;FMTTYPE=text/html:<div>\n	The Chamber&#39\;s February Membership Breakfast will be hosted by&nbsp\;<strong>Fifi&#39\;s Tailor &amp\; Custom Design</strong>\, on Thursday\, February 17\, from&nbsp\;8:00 to 9:00 a.m.</div>\n
LOCATION:Fifi's Tailor & Custom Design 446 N. York St\, Unit #B Elmhurst\, IL 60126 With on-site parking limited and parking at neighboring businesses prohibited\, be prepared to park on side streets east and west of York and walk to Fifi's.
UID:e.333.3717
SEQUENCE:3
DTSTAMP:20260425T233816Z
URL:https://chambermaster.elmhurstchamber.org/events/details/chamber-membership-breakfast-02-17-2011-3717
END:VEVENT

END:VCALENDAR
