BEGIN:VCALENDAR
VERSION:2.0
PRODID:-//ChamberMaster//Event Calendar 2.0//EN
METHOD:PUBLISH
X-PUBLISHED-TTL:P3D
REFRESH-INTERVAL:P3D
CALSCALE:GREGORIAN
BEGIN:VEVENT
DTSTART:20130219T140000Z
DTEND:20130219T150000Z
X-MICROSOFT-CDO-ALLDAYEVENT:FALSE
SUMMARY:Chamber Membership Breakfast
DESCRIPTION:This month's Member Breakfast will be hosted by Illinois Spinal Care of Elmhurst\, located at 275 N. York St.\, Ste. 301\, on Tuesday\, February 19 from 8 to 9 a.m.  Breakfast will be provided by the caterers at Midwest Conference Center.
X-ALT-DESC;FMTTYPE=text/html:This month&#39\;s Member Breakfast will be hosted by Illinois Spinal Care of Elmhurst\, located at 275 N. York St.\, Ste. 301\, on Tuesday\, February 19&nbsp\;from 8 to 9 a.m.&nbsp\; Breakfast will be provided by the caterers at Midwest Conference Center.
LOCATION:275 N. York St.\, Ste. 301 Elmhurst\, IL 60126
UID:e.333.4851
SEQUENCE:3
DTSTAMP:20260424T102311Z
URL:https://chambermaster.elmhurstchamber.org/events/details/chamber-membership-breakfast-02-19-2013-4851
END:VEVENT

END:VCALENDAR
