BEGIN:VCALENDAR
VERSION:2.0
PRODID:-//ChamberMaster//Event Calendar 2.0//EN
METHOD:PUBLISH
X-PUBLISHED-TTL:P3D
REFRESH-INTERVAL:P3D
CALSCALE:GREGORIAN
BEGIN:VEVENT
DTSTART:20120314T130000Z
DTEND:20120314T140000Z
X-MICROSOFT-CDO-ALLDAYEVENT:FALSE
SUMMARY:Chamber Membership Breakfast
DESCRIPTION:The Chamber's March Membership Breakfast will be hosted by Lexington Square of Elmhurst on Wednesday\, March 14 from 8 to 9 a.m.
X-ALT-DESC;FMTTYPE=text/html:The Chamber&#39\;s&nbsp\;March Membership Breakfast will be hosted by Lexington Square of Elmhurst on Wednesday\, March 14&nbsp\;from 8 to 9 a.m.&nbsp\; 
LOCATION:Lexington Square of Elmhurst 400 W. Butterfield Rd. Elmhurst\, IL 60126
UID:e.333.4734
SEQUENCE:3
DTSTAMP:20260425T035403Z
URL:https://chambermaster.elmhurstchamber.org/events/details/chamber-membership-breakfast-03-14-2012-4734
END:VEVENT

END:VCALENDAR
