BEGIN:VCALENDAR
VERSION:2.0
PRODID:-//ChamberMaster//Event Calendar 2.0//EN
METHOD:PUBLISH
X-PUBLISHED-TTL:P3D
REFRESH-INTERVAL:P3D
CALSCALE:GREGORIAN
BEGIN:VEVENT
DTSTART:20110331T130000Z
DTEND:20110331T140000Z
X-MICROSOFT-CDO-ALLDAYEVENT:FALSE
SUMMARY:Chamber Membership Breakfast
DESCRIPTION:The Chamber's March Membership Breakfast will be hosted by Episcopal Church of Our Savior on Thursday\, March 31\, from 8 to 9 a.m.\n\n	\n\n	The Church wants Chamber members to help welcome their new rector\, Steve Martz.\n\n	\n\n	The Church also wants to promote its Haitian Art Auction benefit fundraiser on Saturday\, April 30\, from 6 to 9 p.m. at the Clarion Hotel Conference Center (933 S. Riverside Drive). \n\n	\n\n	Members wil be treated to a full\, hot breakfast catered by Fresh Start Cafe.
X-ALT-DESC;FMTTYPE=text/html:<div>\n	The Chamber&#39\;s March Membership Breakfast will be hosted by&nbsp\;<a href="http://chambermaster.elmhurstchamber.org/list/Member/episcopal-church-of-our-saviour-elmhurst.htm"><strong><strong>Episcopal</strong> Church of Our Savior</strong> </a>on Thursday\, March 31\, from&nbsp\;8 to 9 a.m.<br />\n	<br />\n	The Church wants&nbsp\;Chamber members to help welcome their new rector\, Steve Martz.<br />\n	<br />\n	The Church&nbsp\;also wants to promote its <a href="http://www.elmhurstchamber.org/ElmhurstEvents/ElmhurstEvents/tabid/108/Default.aspx">Haitian Art Auction </a>benefit fundraiser on Saturday\, April 30\, from 6 to 9 p.m. at the <a href="http://chambermaster.elmhurstchamber.org/list/Member/quality-inn-waterford-banquets-elmhurst.htm">Clarion Hotel Conference Center </a>(933 S. Riverside Drive).&nbsp\;<br />\n	<br />\n	Members wil be treated to a full\, hot breakfast catered by <a href="http://chambermaster.elmhurstchamber.org/list/Member/fresh-start-caf%C3%A9-elmhurst.htm">Fresh Start Cafe</a>.</div>\n
LOCATION:Episcopal Church of Our Savior 116 E. Church Street Elmhurst\, IL 60126
UID:e.333.4091
SEQUENCE:3
DTSTAMP:20260425T222010Z
URL:https://chambermaster.elmhurstchamber.org/events/details/chamber-membership-breakfast-03-31-2011-4091
END:VEVENT

END:VCALENDAR
