BEGIN:VCALENDAR
VERSION:2.0
PRODID:-//ChamberMaster//Event Calendar 2.0//EN
METHOD:PUBLISH
X-PUBLISHED-TTL:P3D
REFRESH-INTERVAL:P3D
CALSCALE:GREGORIAN
BEGIN:VEVENT
DTSTART:20110421T130000Z
DTEND:20110421T140000Z
X-MICROSOFT-CDO-ALLDAYEVENT:FALSE
SUMMARY:Chamber Membership Breakfast
DESCRIPTION:The Chamber's April Membership Breakfast will be hosted by Patriot Boxing & Fitness on Thursday\, April 21\, from 8 to 9 a.m.
X-ALT-DESC;FMTTYPE=text/html:<div>\n	The Chamber&#39\;s April Membership Breakfast will be hosted by <a href="http://chambermaster.elmhurstchamber.org/list/Member/patriot-boxing-fitness.htm">Patriot Boxing&nbsp\;&amp\; Fitness </a>on Thursday\, April 21\, from&nbsp\;8 to 9 a.m.</div>\n
LOCATION:Patriot Boxing & Fitness 645 S. Rt. 83 Elmhurst IL 60126
UID:e.333.4161
SEQUENCE:3
DTSTAMP:20260425T220732Z
URL:https://chambermaster.elmhurstchamber.org/events/details/chamber-membership-breakfast-04-21-2011-4161
END:VEVENT

END:VCALENDAR
