BEGIN:VCALENDAR
VERSION:2.0
PRODID:-//ChamberMaster//Event Calendar 2.0//EN
METHOD:PUBLISH
X-PUBLISHED-TTL:P3D
REFRESH-INTERVAL:P3D
CALSCALE:GREGORIAN
BEGIN:VEVENT
DTSTART:20110525T130000Z
DTEND:20110525T140000Z
X-MICROSOFT-CDO-ALLDAYEVENT:FALSE
SUMMARY:Chamber Membership Breakfast
DESCRIPTION:The Chamber's May Membership Breakfast will be hosted by Interior Expertise\, Inc.\, Chapin's Inc. and Fresh Start Cafe on Wednesday\, May 25\, from 8 to 9 a.m.
X-ALT-DESC;FMTTYPE=text/html:<div>\n	The Chamber&#39\;s May Membership Breakfast will be hosted by Interior Expertise\, Inc.\,&nbsp\;Chapin&#39\;s Inc. and Fresh Start Cafe&nbsp\;on Wednesday\, May 25\, from&nbsp\;8 to 9 a.m.</div>\n
LOCATION:443 W. Fullerton Elmhurst IL 60126
UID:e.333.4190
SEQUENCE:3
DTSTAMP:20260425T191208Z
URL:https://chambermaster.elmhurstchamber.org/events/details/chamber-membership-breakfast-05-25-2011-4190
END:VEVENT

END:VCALENDAR
