BEGIN:VCALENDAR
VERSION:2.0
PRODID:-//ChamberMaster//Event Calendar 2.0//EN
METHOD:PUBLISH
X-PUBLISHED-TTL:P3D
REFRESH-INTERVAL:P3D
CALSCALE:GREGORIAN
BEGIN:VEVENT
DTSTART:20110616T130000Z
DTEND:20110616T140000Z
X-MICROSOFT-CDO-ALLDAYEVENT:FALSE
SUMMARY:Chamber Membership Breakfast
DESCRIPTION:The Chamber's June Membership Breakfast will be hosted by Elmhurst American Legion THB Post 187 on Thursday\, June 16\, from 8 to 9 a.m.\n\n	\n\n	The Legion has a cook on staff and will be providing members with a warm breakfast of eggs\, bacon\, sausage\, and muffins. \n\n	\n\n	Please do not park in the Community Bank or Elmhurst Orthopaedics Parking Lots.
X-ALT-DESC;FMTTYPE=text/html:<div>\n	The Chamber&#39\;s June Membership Breakfast will be hosted by <a href="http://chambermaster.elmhurstchamber.org/list/member/elmhurst-american-legion-thb-post-187-elmhurst.htm">Elmhurst American Legion THB Post 187&nbsp\;</a>on Thursday\, June 16\, from&nbsp\;8 to 9 a.m.<br />\n	<br />\n	The Legion has a cook on staff and will be providing members with a warm breakfast of eggs\, bacon\, sausage\, and muffins.&nbsp\;<br />\n	<br />\n	<u><strong>Please do not park in the Community Bank or Elmhurst Orthopaedics Parking Lots.</strong></u></div>\n
LOCATION:310 W. Butterfield Rd. Elmhurst\, IL 60126
UID:e.333.4225
SEQUENCE:3
DTSTAMP:20260425T173916Z
URL:https://chambermaster.elmhurstchamber.org/events/details/chamber-membership-breakfast-06-16-2011-4225
END:VEVENT

END:VCALENDAR
