BEGIN:VCALENDAR
VERSION:2.0
PRODID:-//ChamberMaster//Event Calendar 2.0//EN
METHOD:PUBLISH
X-PUBLISHED-TTL:P3D
REFRESH-INTERVAL:P3D
CALSCALE:GREGORIAN
BEGIN:VEVENT
DTSTART:20110728T130000Z
DTEND:20110728T140000Z
X-MICROSOFT-CDO-ALLDAYEVENT:FALSE
SUMMARY:Chamber Membership Breakfast
DESCRIPTION:The Chamber's July Membership Breakfast will be hosted by Comcast Business Services on Thursday\, July 28\, from 8 to 9 a.m.
X-ALT-DESC;FMTTYPE=text/html:<div>\n	The Chamber&#39\;s July Membership Breakfast will be hosted by&nbsp\;<a href="http://chambermaster.elmhurstchamber.org/list/member/comcast-elmhurst.htm">Comcast Business Services </a>on Thursday\, July 28\, from&nbsp\;8 to 9 a.m.<br />\n	<br />\n	&nbsp\;</div>\n
LOCATION:155 W. Industrial Dr. Elmhurst\, IL 60126
UID:e.333.4244
SEQUENCE:3
DTSTAMP:20260425T161355Z
URL:https://chambermaster.elmhurstchamber.org/events/details/chamber-membership-breakfast-07-28-2011-4244
END:VEVENT

END:VCALENDAR
