BEGIN:VCALENDAR
VERSION:2.0
PRODID:-//ChamberMaster//Event Calendar 2.0//EN
METHOD:PUBLISH
X-PUBLISHED-TTL:P3D
REFRESH-INTERVAL:P3D
CALSCALE:GREGORIAN
BEGIN:VEVENT
DTSTART:20120816T130000Z
DTEND:20120816T140000Z
X-MICROSOFT-CDO-ALLDAYEVENT:FALSE
SUMMARY:Chamber Membership Breakfast
DESCRIPTION:This month's Member Breakfast will be hosted by Patriot Boxing & Fitness\, from 8 to 9 a.m.\, Thursday\, August 16.
X-ALT-DESC;FMTTYPE=text/html:This month&#39\;s&nbsp\;Member Breakfast will be hosted by&nbsp\;Patriot Boxing &amp\; Fitness\, from 8 to 9 a.m.\,&nbsp\;Thursday\,&nbsp\;August&nbsp\;16.&nbsp\;&nbsp\;
LOCATION:645 S. Route 83 Elmhurst
UID:e.333.4855
SEQUENCE:3
DTSTAMP:20260424T193826Z
URL:https://chambermaster.elmhurstchamber.org/events/details/chamber-membership-breakfast-08-16-2012-4855
END:VEVENT

END:VCALENDAR
