BEGIN:VCALENDAR
VERSION:2.0
PRODID:-//ChamberMaster//Event Calendar 2.0//EN
METHOD:PUBLISH
X-PUBLISHED-TTL:P3D
REFRESH-INTERVAL:P3D
CALSCALE:GREGORIAN
BEGIN:VEVENT
DTSTART:20120925T130000Z
DTEND:20120925T140000Z
X-MICROSOFT-CDO-ALLDAYEVENT:FALSE
SUMMARY:Chamber Membership Breakfast
DESCRIPTION:This month's breakfast will be hosted by Russell Chiropractic Care (100 E. Roosevelt Rd.\, Suite 45\, Villa Park) from 8 to 9 am on Tuesday\, September 25.  \n\n\n\nPlease click on the following link to sign up for a free 5 minute chair massage!\n\nSign up Sheet\n\n\n\nTo view the invitation please\n\nClick Here
X-ALT-DESC;FMTTYPE=text/html:This month&#39\;s breakfast will be&nbsp\;hosted by Russell Chiropractic Care (100 E. Roosevelt Rd.\, Suite 45\,&nbsp\;Villa Park)&nbsp\;from&nbsp\;8 to 9 am&nbsp\;on&nbsp\;Tuesday\,&nbsp\;September&nbsp\;25.&nbsp\;&nbsp\;<br />\n<br />\nPlease click on the following link to sign up&nbsp\;for a free 5 minute chair massage!<br />\n<a href="http://docs.google.com/spreadsheet/ccc?key=0Ah6uLPpCWupAdFBhWnhMak1uQ09fRTNDYnRvMEZ2bHc">Sign up Sheet</a><br />\n<br />\nTo view the invitation please<br />\n<a href="http://cloud.chambermaster.com/userfiles/UserFiles/chambers/333/File/RussellChiropracticCareBreakfastInvite.pdf">Click Here</a>
LOCATION:100 E. Roosevelt Rd.\, Suite 45 Villa Park\, IL 60181
UID:e.333.4882
SEQUENCE:3
DTSTAMP:20260424T175537Z
URL:https://chambermaster.elmhurstchamber.org/events/details/chamber-membership-breakfast-09-25-2012-4882
END:VEVENT

END:VCALENDAR
