BEGIN:VCALENDAR
VERSION:2.0
PRODID:-//ChamberMaster//Event Calendar 2.0//EN
METHOD:PUBLISH
X-PUBLISHED-TTL:P3D
REFRESH-INTERVAL:P3D
CALSCALE:GREGORIAN
BEGIN:VEVENT
DTSTART:20121010T120000Z
DTEND:20121010T133000Z
X-MICROSOFT-CDO-ALLDAYEVENT:FALSE
SUMMARY:Chamber Membership Breakfast
DESCRIPTION:This month's breakfast will be hosted by Elmhurst Public School District 205 and will take place at York Community High School\, located at 355 W. St. Charles Rd.\n\n\n\nPlease note that the breakfast starts at 7:30 am\, with tours of York HS starting at 7 am.
X-ALT-DESC;FMTTYPE=text/html:This month&#39\;s breakfast will be hosted by&nbsp\;Elmhurst Public School District 205 and will&nbsp\;take place at&nbsp\;York Community High School\, located&nbsp\;at&nbsp\;355 W. St. Charles&nbsp\;Rd.<br />\n<br />\nPlease note that&nbsp\;the <strong>breakfast&nbsp\;starts at&nbsp\;7:30 am</strong>\, with tours of York HS starting at 7 am.&nbsp\;&nbsp\;
LOCATION:York Community High School Commons 355 W. St. Charles Rd. Elmhurst
UID:e.333.4895
SEQUENCE:3
DTSTAMP:20260424T162305Z
URL:https://chambermaster.elmhurstchamber.org/events/details/chamber-membership-breakfast-10-10-2012-4895
END:VEVENT

END:VCALENDAR
