BEGIN:VCALENDAR
VERSION:2.0
PRODID:-//ChamberMaster//Event Calendar 2.0//EN
METHOD:PUBLISH
X-PUBLISHED-TTL:P3D
REFRESH-INTERVAL:P3D
CALSCALE:GREGORIAN
BEGIN:VEVENT
DTSTART:20111012T130000Z
DTEND:20111012T140000Z
X-MICROSOFT-CDO-ALLDAYEVENT:FALSE
SUMMARY:Chamber Membership Breakfast
DESCRIPTION:The Chamber's October Membership Breakfast will be hosted by Continental 1 T-Mobile on Wednesday October 12\, from 8 to 9 a.m.
X-ALT-DESC;FMTTYPE=text/html:The Chamber&#39\;s October&nbsp\;Membership Breakfast will be hosted by Continental 1 T-Mobile on Wednesday October 12\, from 8 to 9 a.m.&nbsp\; 
LOCATION:361 S. Rte. 83\, Elmhurst
UID:e.333.4259
SEQUENCE:3
DTSTAMP:20260425T114821Z
URL:https://chambermaster.elmhurstchamber.org/events/details/chamber-membership-breakfast-10-12-2011-4259
END:VEVENT

END:VCALENDAR
